BEGIN:VCALENDAR
VERSION:2.0
PRODID:-//Güçlü Kızlar Aydınlık Yarınlar - ECPv6.14.2//NONSGML v1.0//EN
CALSCALE:GREGORIAN
METHOD:PUBLISH
X-ORIGINAL-URL:https://guclukizlaraydinlikyarinlar.com
X-WR-CALDESC:Güçlü Kızlar Aydınlık Yarınlar için etkinlikler
REFRESH-INTERVAL;VALUE=DURATION:PT1H
X-Robots-Tag:noindex
X-PUBLISHED-TTL:PT1H
BEGIN:VTIMEZONE
TZID:Europe/Moscow
BEGIN:STANDARD
TZOFFSETFROM:+0300
TZOFFSETTO:+0300
TZNAME:MSK
DTSTART:20240101T000000
END:STANDARD
END:VTIMEZONE
BEGIN:VEVENT
DTSTART;VALUE=DATE:20250522
DTEND;VALUE=DATE:20250523
DTSTAMP:20260416T121754
CREATED:20250724T092921Z
LAST-MODIFIED:20250724T103140Z
UID:10278-1747872000-1747958399@guclukizlaraydinlikyarinlar.com
SUMMARY:Ankara Gezisi
DESCRIPTION:Dicta sunt explicabo. Nemo enim ipsam voluptatem quia voluptas sit aspernaturaut odit aut fugit\, sed quia consequuntur. Dicta sunt explicabo.
URL:https://guclukizlaraydinlikyarinlar.com/event/ankara-gezisi/
LOCATION:Ankara
ATTACH;FMTTYPE=image/jpeg:https://guclukizlaraydinlikyarinlar.com/wp-content/uploads/2025/07/0b21a451-dc58-47dd-a036-19a3d33ee2d3-1.jpg
END:VEVENT
BEGIN:VEVENT
DTSTART;VALUE=DATE:20250425
DTEND;VALUE=DATE:20250426
DTSTAMP:20260416T121754
CREATED:20250724T103525Z
LAST-MODIFIED:20250724T103647Z
UID:10284-1745539200-1745625599@guclukizlaraydinlikyarinlar.com
SUMMARY:Bez Bebek Yapımı
DESCRIPTION:Atölye çalışmaları kapsamında 25.04.2025 tarihinde kızlarımızla okul öğretmenlerimiz ile birlikte çoraptan bez bebek yapımı gerçekleştirildi.
URL:https://guclukizlaraydinlikyarinlar.com/event/bez-bebek-yapimi/
ATTACH;FMTTYPE=image/jpeg:https://guclukizlaraydinlikyarinlar.com/wp-content/uploads/2025/07/be2fdb29-373b-480f-a1ab-7e94eb69a28a.jpg
END:VEVENT
BEGIN:VEVENT
DTSTART;VALUE=DATE:20241026
DTEND;VALUE=DATE:20241027
DTSTAMP:20260416T121754
CREATED:20250724T105755Z
LAST-MODIFIED:20250724T105755Z
UID:10287-1729900800-1729987199@guclukizlaraydinlikyarinlar.com
SUMMARY:İstanbul Gezisi
DESCRIPTION:Kurum dışı faaliyet kapsamında 26.10.2024 tarihinde öğrencilerimizle İstanbul Gezisi gerçekleştirdik.27.10.2024 tarihinde ise Fenerbahçe maçına katıldık.
URL:https://guclukizlaraydinlikyarinlar.com/event/istanbul-gezisi/
LOCATION:İstanbul
ATTACH;FMTTYPE=image/jpeg:https://guclukizlaraydinlikyarinlar.com/wp-content/uploads/2025/07/873e1be0-632a-4bcf-9279-ab9e0c8d937d.jpg
END:VEVENT
END:VCALENDAR